BEGIN:VCALENDAR
VERSION:2.0
PRODID:-//Black Rock Riverside Alliance - ECPv6.15.17.1//NONSGML v1.0//EN
CALSCALE:GREGORIAN
METHOD:PUBLISH
X-ORIGINAL-URL:https://brralliance.org
X-WR-CALDESC:Events for Black Rock Riverside Alliance
REFRESH-INTERVAL;VALUE=DURATION:PT1H
X-Robots-Tag:noindex
X-PUBLISHED-TTL:PT1H
BEGIN:VTIMEZONE
TZID:UTC
BEGIN:STANDARD
TZOFFSETFROM:+0000
TZOFFSETTO:+0000
TZNAME:UTC
DTSTART:20220101T000000
END:STANDARD
END:VTIMEZONE
BEGIN:VEVENT
DTSTART;TZID=UTC:20230715T080000
DTEND;TZID=UTC:20230715T130000
DTSTAMP:20260421T112826
CREATED:20230621T165328Z
LAST-MODIFIED:20230621T165328Z
UID:942-1689408000-1689426000@brralliance.org
SUMMARY:Conservation Day @ Bidwell Park
DESCRIPTION:A butterfly release and green group gathering! \nTalk to local environmental organizations and pick up useful information. Bring the kids! Event takes place during the hours of the Elmwood Village Farmers Market on Bidwell Parkway.
URL:https://brralliance.org/index.php/event/conservation-day-bidwell-park/
LOCATION:Bidwell Park\, Elmwood-Bidwell Farmer's Market\, Buffalo\, NY\, 14222\, United States
END:VEVENT
BEGIN:VEVENT
DTSTART;TZID=UTC:20230716T191600
DTEND;TZID=UTC:20230718T071600
DTSTAMP:20260421T112826
CREATED:20230621T165908Z
LAST-MODIFIED:20230621T171256Z
UID:945-1689534960-1689664560@brralliance.org
SUMMARY:2023 Give 716
DESCRIPTION:Help the BRRAlliance raise funds through the 2023 Give 716 initiative supported by the Buffalo Bills\, Sabres\, and the  NLL CHAMPION Buffalo Bandits!
URL:https://brralliance.org/index.php/event/2023-give-716/
LOCATION:NY
END:VEVENT
BEGIN:VEVENT
DTSTART;TZID=UTC:20230729T103000
DTEND;TZID=UTC:20230729T133000
DTSTAMP:20260421T112826
CREATED:20230621T172039Z
LAST-MODIFIED:20230621T172039Z
UID:947-1690626600-1690637400@brralliance.org
SUMMARY:12th Annual Paddles Up Niagara
DESCRIPTION:Looking to participate in one of the best group kayak paddle events in the region? Yes? If that’s the case\, then you will want to know about the annual Paddles Up Niagara event – an outing that not only gets people out on the water\, it also provides insight into of the region’s most coveted natural resources – The Mighty Niagara River. \nThe 16th Annual Paddles Up Niagara event is presented by the Niagara River Greenway\, along with NY State Parks\, Recreation and Historic Preservation and the Town of Grand Island. The group paddle takes place at Beaver Island State Park on July 30\, 2022\, and features multiple nature-focused organizations\, such as US Fish and Wildlife Service\, Army Corps of Engineers\, Buffalo Niagara Waterkeeper\, and the WNY Land Conservancy. \nThis paddle outing is for water lovers\, nature enthusiasts\, conservationists\, adventurers\, and those who want to learn a thing or two along the way.
URL:https://brralliance.org/index.php/event/12th-annual-paddles-up-niagara/
LOCATION:Beaver Island State Park\, 2136 W Oakfield Rd\, Grand Island\, NY\, 14072\, United States
END:VEVENT
END:VCALENDAR