BEGIN:VCALENDAR
VERSION:2.0
PRODID:-//Black Rock Riverside Alliance - ECPv6.15.17.1//NONSGML v1.0//EN
CALSCALE:GREGORIAN
METHOD:PUBLISH
X-ORIGINAL-URL:https://brralliance.org
X-WR-CALDESC:Events for Black Rock Riverside Alliance
REFRESH-INTERVAL;VALUE=DURATION:PT1H
X-Robots-Tag:noindex
X-PUBLISHED-TTL:PT1H
BEGIN:VTIMEZONE
TZID:UTC
BEGIN:STANDARD
TZOFFSETFROM:+0000
TZOFFSETTO:+0000
TZNAME:UTC
DTSTART:20220101T000000
END:STANDARD
END:VTIMEZONE
BEGIN:VEVENT
DTSTART;TZID=UTC:20230610T110000
DTEND;TZID=UTC:20230610T180000
DTSTAMP:20260421T162259
CREATED:20230516T185640Z
LAST-MODIFIED:20230516T185640Z
UID:930-1686394800-1686420000@brralliance.org
SUMMARY:Kindness Festival at Eastern Hills Mall
DESCRIPTION:The first ever Kindness Festival will be held from 11 am to 6 pm on Saturday\, June 10th\, 2023 at the Eastern Hills Mall in Williamsville\, NY! \nThis is a huge event to celebrate the amazing nonprofits in Western New York and shine a light on the great work that they are doing! \nThere will also be lots of fun for the kids with inflatables\, activities\, a chicken BBQ and more! \nA huge basket raffle will benefit Smile Mail Inc.\, Sweet Buffalo Rocks & Totally Buffalo Cares!
URL:https://brralliance.org/index.php/event/kindness-festival-at-eastern-hills-mall/
LOCATION:NY
END:VEVENT
END:VCALENDAR