BEGIN:VCALENDAR
VERSION:2.0
PRODID:-//Black Rock Riverside Alliance - ECPv6.15.17.1//NONSGML v1.0//EN
CALSCALE:GREGORIAN
METHOD:PUBLISH
X-ORIGINAL-URL:https://brralliance.org
X-WR-CALDESC:Events for Black Rock Riverside Alliance
REFRESH-INTERVAL;VALUE=DURATION:PT1H
X-Robots-Tag:noindex
X-PUBLISHED-TTL:PT1H
BEGIN:VTIMEZONE
TZID:UTC
BEGIN:STANDARD
TZOFFSETFROM:+0000
TZOFFSETTO:+0000
TZNAME:UTC
DTSTART:20220101T000000
END:STANDARD
END:VTIMEZONE
BEGIN:VEVENT
DTSTART;TZID=UTC:20230609T173000
DTEND;TZID=UTC:20230609T210000
DTSTAMP:20260421T162342
CREATED:20230516T182133Z
LAST-MODIFIED:20230516T182712Z
UID:919-1686331800-1686344400@brralliance.org
SUMMARY:BRRAlliance Meat Raffle
DESCRIPTION:June 9\, 2023 5:30 PM – 9:00 PM \nAmerican Legion Post #1041 533 Amherst Street Buffalo\, NY 14207 \n$10 per individual ticket / $70 for table of 8 \nMeat raffles\, 50/50 and basket raffles \nBeer\, wine\, soda bar included with price of admission \nPizza pre-orders with Mister Pizza when ordering online via our Eventbrite link
URL:https://brralliance.org/index.php/event/brralliance-meat-raffle/
LOCATION:NY
END:VEVENT
END:VCALENDAR